BEGIN:VCALENDAR
VERSION:2.0
PRODID:-//San Diego Jewish Bar Association - ECPv6.15.20//NONSGML v1.0//EN
CALSCALE:GREGORIAN
METHOD:PUBLISH
X-ORIGINAL-URL:https://sdjba.com
X-WR-CALDESC:Events for San Diego Jewish Bar Association
REFRESH-INTERVAL;VALUE=DURATION:PT1H
X-Robots-Tag:noindex
X-PUBLISHED-TTL:PT1H
BEGIN:VTIMEZONE
TZID:UTC
BEGIN:STANDARD
TZOFFSETFROM:+0000
TZOFFSETTO:+0000
TZNAME:UTC
DTSTART:20240101T000000
END:STANDARD
END:VTIMEZONE
BEGIN:VEVENT
DTSTART;TZID=UTC:20251210T170000
DTEND;TZID=UTC:20251210T210000
DTSTAMP:20260423T155529
CREATED:20251124T201706Z
LAST-MODIFIED:20251124T204046Z
UID:330-1765386000-1765400400@sdjba.com
SUMMARY:SDJBA Hanukkah Party
DESCRIPTION:Celebrate the Festival of Lights with friends\, colleagues\, and community at our annual SDJBA Hanukkah Party! Enjoy food\, drinks\, and great company as we close out the year together. \nYour ticket includes access to a full open bar\, dinner buffet\, and an evening of music\, dancing\, and good company. \nCelebrate Hanukkah in style at one of San Diego’s premier venues. \nPlus ones are encouraged. Guests will be charged the same rate as the applicable member or non-member. \nRSVP Here.
URL:https://sdjba.com/event/sdjba-hanukkah-party/
ATTACH;FMTTYPE=image/jpeg:https://sdjba.com/wp-content/uploads/2025/11/Hanukkah-Event-2025.jpg
END:VEVENT
BEGIN:VEVENT
DTSTART;TZID=UTC:20250918T163000
DTEND;TZID=UTC:20250918T200000
DTSTAMP:20260423T155529
CREATED:20250723T003903Z
LAST-MODIFIED:20250819T193900Z
UID:226-1758213000-1758225600@sdjba.com
SUMMARY:SDJBA’s Fall Mixer
DESCRIPTION:Join us at Cooley on Thursday\, 09/18 from 4:30 pm – 8:00 pm for SDJBA’s annual Fall Mixer — a relaxed social event with light appetizers\, drinks\, and sweet treats included with entry. \nWe’re also pleased to feature a special economic forecast from Alan Nevin\, Principal at Nevin Real Estate Advisors. \n \nMr. Nevin is the former Chief Economist for the California Building Industry Association and currently serves as Director of Economic Research for GAFCOM. With decades of experience supporting the real estate and legal communities\, he brings expert insight into residential and commercial market trends\, fiscal impact\, economic damage analysis\, and more. \nRegister Here.
URL:https://sdjba.com/event/sdjbas-fall-mixer/
LOCATION:Cooley LLP\, 10265 Science Center Dr\, San Diego\, CA\, 92121\, United States
ATTACH;FMTTYPE=image/jpeg:https://sdjba.com/wp-content/uploads/2025/07/fall-event.jpg
END:VEVENT
BEGIN:VEVENT
DTSTART;TZID=UTC:20250710T180000
DTEND;TZID=UTC:20250710T203000
DTSTAMP:20260423T155529
CREATED:20250520T162009Z
LAST-MODIFIED:20250522T161045Z
UID:214-1752170400-1752179400@sdjba.com
SUMMARY:SDJBA Sunset Happy Hour at Monarch Ocean Pub!
DESCRIPTION:Soak in the ocean views with us from the rooftop deck at Monarch Ocean Pub! Join fellow members of the San Diego Jewish Bar Association for a relaxed evening of drinks\, conversation\, and coastal vibes. \n\n🍹 A limited drink tab will be available for members—first come\, first served!\n📩 Event confirmation will be sent one week prior.\n\nDon’t miss this breezy mid-summer get-together! \nRegister for the event here. \n 
URL:https://sdjba.com/event/sdjba-sunset-happy-hour-at-monarch-ocean-pub/
LOCATION:Monarch Ocean Pub\, 1555 Camino Del Mar #322\,\, Del Mar\, CA\, 92014\, United States
ATTACH;FMTTYPE=image/png:https://sdjba.com/wp-content/uploads/2025/05/Monarch-Ocean-Pub.png
END:VEVENT
BEGIN:VEVENT
DTSTART;TZID=UTC:20250622T103000
DTEND;TZID=UTC:20250622T120000
DTSTAMP:20260423T155529
CREATED:20250520T161712Z
LAST-MODIFIED:20250617T201313Z
UID:211-1750588200-1750593600@sdjba.com
SUMMARY:SDJBA Beach & Bagel Brunch
DESCRIPTION:Grab your sunscreen\, bring the kids\, and don’t forget your four-legged friends! Join us for a laid-back\, family- and dog-friendly Beach & Bagel Brunch. We’ll enjoy fresh bagels\, beachside vibes\, and great company. \n\n☀️ Casual\, come-as-you-are fun\n🐶 Dogs and families welcome\n📍 Fletcher Cove\, Solana Beach 111 S Sierra Ave\, Solana Beach\, CA 92075\n\nRegister for the event here.
URL:https://sdjba.com/event/sdjba-beach-bagel-brunch/
LOCATION:Fletcher Cove\, Solana Beach\, 111 S Sierra Ave\, Solana Beach\, CA\, 92075\, United States
ATTACH;FMTTYPE=image/png:https://sdjba.com/wp-content/uploads/2025/05/beachandbagelbrunch.png
END:VEVENT
BEGIN:VEVENT
DTSTART;TZID=UTC:20250612T180000
DTEND;TZID=UTC:20250612T200000
DTSTAMP:20260423T155529
CREATED:20250520T161431Z
LAST-MODIFIED:20250522T161154Z
UID:206-1749751200-1749758400@sdjba.com
SUMMARY:SDJBA Happy Hour at Punch Bowl Social!
DESCRIPTION:Join us for a casual summer evening of good vibes\, great company\, and friendly competition! Whether you’re in the mood to mingle\, sip\, snack\, or show off your game skills\, we’ve got you covered. 🍹🎯🕹️ \nFood & drinks available for purchase. \nBring a friend\, bring your game face\, and we’ll see you there! \nRegister for the event here.
URL:https://sdjba.com/event/sdjba-happy-hour-at-punch-bowl-social/
LOCATION:Punch Bowl Social\, 1485 E Street\, San Diego\, CA\, 92101\, United States
ATTACH;FMTTYPE=image/jpeg:https://sdjba.com/wp-content/uploads/2025/05/punchbowlsocial.jpg
END:VEVENT
END:VCALENDAR